{"text_format":"1","workbook":"xlsx","n_sheets":3,"sheets":["最尤法","表JB1,2","ワイブルプロット"],"not_rendered":{"charts":1,"images":0,"macros":1,"external_links":0,"defined_names":31,"comments":0,"pivot_tables":0},"unopened":[],"bounds":{"document_bytes":16777216,"sheet_cells":100000,"rows_first":2000,"rows_last":500,"rows_between":2000,"halvings":0,"cell_chars":16384,"cell_head_chars":4096},"cells_cut":0,"cells_raw":0,"read":"whole","date_system":"1900"}

{"sheet":"最尤法","index":0,"n_rows":40,"n_cols":12,"rows_kept":40,"cut":false,"hidden":false,"merged":[]}
["JIS R 3206 附属書JB 計算シート ver5",null,null,null,null,null,null,null,null,{"$f":"TEXT(TODAY(),\"yyyy/mm/dd\")","v":"2024/08/22"}]
["二母数ワイブル分布，最尤法，95%信頼区間，5%破損確率",null,null,null,null,null,null,null,null,"User: Ogura, MOBILE-PC01"]
["JIS R 1625:2010 ファインセラミックスの強さデータのワイブル統計解析法"]
[null,"n=",20]
[null,"σave=",155.6,null,null,null,"式JB.1より","mt=",{"$f":"C6","v":21.482260074949629}]
[null,"m=",21.482260074949629,"←ソルバー機能でこれを求める。",null,null,"式JB.2より","βt=",{"$f":"(D8/C4)^(1/C6)*C5","v":159.44456784418458}]
[null,"L=",{"$f":"C4/C6+C8-C4*E8/D8","v":1.6431584981546621E-9},"←ソルバー機能でゼロを目指す。",null,null,"表JB.1より","q0.975=",{"$f":"qt(\"q0.975\",$C$4)","v":1.5480737778945381},null,null,"バイアス補正用"]
[null,"Σ=",{"$f":"SUM(C10:C1048576)","v":100.91752195116624},{"$f":"SUM(D10:D1048576)","v":33.786628344270106},{"$f":"SUM(E10:E1048576)","v":172.05590917409813},null,"表JB.2より","t0.975=",{"$f":"qt(\"t0.975\",$C$4)","v":0.50991198628383405},null,null,{"$f":"SUM(L10:L1048576)","v":31.61445126364422}]
[null,"σi","ln σi","(σi/σave)^m","(σi/σave)^m * ln σi",null,"式JB.3より","ｍL=",{"$f":"I5/I7","v":13.876767620317576},null,null,"(σi/σave)^m"]
[null,157,{"$f":"LN(B10)","v":5.0562458053483077},{"$f":"(B10/$C$5)^$C$6","v":1.2121804498058966},{"$f":"C10*D10","v":6.1290823146562889},null,"式JB.4より","βL=",{"$f":"I6*EXP(-I8/I5)","v":155.70448798581305},null,null,{"$f":"($B10/$C$5)^$I$14","v":1.1958974671246121}]
[null,170,{"$f":"LN(B11)","v":5.1357984370502621},{"$f":"(B11/$C$5)^$C$6","v":6.695201571194171},{"$f":"C11*D11","v":34.385205765075483},null,"式JB.5より","σ0.05=",{"$f":"I10*(LN(1/(1-0.05)))^(1/I9)","v":125.70263084113202},null,null,{"$f":"($B11/$C$5)^$I$14","v":5.8576956237414457}]
[null,152,5.0238805208462765,0.60479924858944589,3.038439164010982,null,null,null,null,null,null,0.62655641783018379]
[null,150,5.0106352940962555,0.4550281006240951,2.2799798607926731,null,"バイアス補正","Bn=",{"$f":"biasCorr(C4)","v":0.92971735305525849},null,null,0.48091928959317304]
[null,166,5.1119877883565437,4.014386519625182,20.521494866067055,null,null,"m=",{"$f":"I13*I5","v":19.972429974526829},null,null,3.6407866622356173]
[null,155,5.0434251169192468,0.92035427583967822,4.6417378712338575,null,null,"β=",{"$f":"(L8/C4)^(1/I14)*C5","v":159.20844490800584},null,null,0.92573859421766247]
[null,161,5.0814043649844631,2.0810727038074299,10.574771920977094,null,null,null,null,null,null,1.9765926780104133]
[null,137,4.9199809258281251,6.4903299397442063E-2,0.31932299505872697,null,null,null,null,null,null,7.8658164867779573E-2]
[null,145,4.9767337424205742,0.21965919390546113,1.0931853221422121,null,null,null,null,null,null,0.24435035878820141]
[null,154,5.0369526024136295,0.80088265515587498,4.0340079741153216,null,null,null,null,null,null,0.81347895482412524]
[null,160,5.0751738152338266,1.8203652970348008,9.2386702896713686,null,null,null,null,null,null,1.7453153820451115]
[null,165,5.1059454739005803,3.5257104710345391,18.002085421862688,null,null,null,null,null,null,3.2268940234205923]
[null,150,5.0106352940962555,0.4550281006240951,2.2799798607926731,null,null,null,null,null,null,0.48091928959317304]
[null,166,5.1119877883565437,4.014386519625182,20.521494866067055,null,null,null,null,null,null,3.6407866622356173]
[null,153,5.0304379213924353,0.69628869528013293,3.5026370569740428,null,null,null,null,null,null,0.71423071893606405]
[null,160,5.0751738152338266,1.8203652970348008,9.2386702896713686,null,null,null,null,null,null,1.7453153820451115]
[null,146,4.9836066217083363,0.25460726150333068,1.2688624343630248,null,null,null,null,null,null,0.28030300880673892]
[null,164,5.0998664278241987,3.0940791054656755,15.779390154996728,null,null,null,null,null,null,2.8579561882298945]
[null,153,5.0304379213924353,0.69628869528013293,3.5026370569740428,null,null,null,null,null,null,0.71423071893606405]
[null,148,4.9972122737641147,0.34104088344274247,1.7042536885954296,null,null,null,null,null,null,0.36782567816263834]
[null,null,null,null,null,null,null,null,null,null,null,0]
[null,null,null,null,null,null,null,null,null,null,null,0]
[null,null,null,null,null,null,null,null,null,null,null,0]
[null,null,null,null,null,null,null,null,null,null,null,0]
[null,null,null,null,null,null,null,null,null,null,null,0]
[null,null,null,null,null,null,null,null,null,null,null,0]
[null,null,null,null,null,null,null,null,null,null,null,0]
[null,null,null,null,null,null,null,null,null,null,null,0]
[null,null,null,null,null,null,null,null,null,null,null,0]
[null,null,null,null,null,null,null,null,null,null,null,0]
[null,null,null,null,null,null,null,null,null,null,null,0]

{"sheet":"表JB1,2","index":1,"n_rows":55,"n_cols":9,"rows_kept":55,"cut":false,"hidden":true,"merged":[]}
[null,"q","q","q","q","t","t","t","t"]
["N",2.5000000000000001E-2,0.05,0.95,0.97499999999999998,2.5000000000000001E-2,0.05,0.95,0.97499999999999998]
[5,0.6181278338895283,0.68459150176460581,2.8357631553055915,3.4356591282878157,-1.6659776069433008,-1.248891823158963,1.0923152113188912,1.4335738783948353]
[6,0.63330951560871829,0.69555544122299262,2.4247243455989769,2.8553781180178457,-1.3037737418578452,-1.0154085510976592,0.930881731875981,1.1903226155637292]
[7,0.65171989427409804,0.70867558737109126,2.1837524059742117,2.5132286021268246,-1.1118663707686569,-0.87786874629438627,0.82477260686356302,1.0536858778096567]
[8,0.66447581109133613,0.71931741077690758,2.0237282930135936,2.3071075356224982,-0.9854643128436239,-0.78297049476577973,0.74918814295660718,0.94512700855732235]
[9,0.67888457267672497,0.72978276410237475,1.9055179272710638,2.1432877716495402,-0.89722433947318148,-0.7189430130688077,0.68686991899777861,0.8624723122307334]
[10,0.69038990550398061,0.73850199938114613,1.8233687854854399,2.0423259511500809,-0.81747777593031101,-0.66198193870028077,0.64480312831591513,0.8031987321973586]
[11,0.69779350153809638,0.74643680868263318,1.7559055979647642,1.9502710203401161,-0.76790597637138747,-0.62156796663157077,0.60580835477838946,0.75333220706393345]
[12,0.70533906226617826,0.75070733217611563,1.6836892831592976,1.8537872568205653,-0.7112938425673585,-0.58312454991296392,0.56856561546120288,0.70159360577170815]
[13,0.71512879721556,0.76041119585565198,1.6445706169337395,1.8000183812391934,-0.67850374642046463,-0.55637863277061972,0.54288103906998808,0.66975690083864459]
[14,0.718259153937154,0.76255021380934163,1.6016760574748041,1.7436770310622876,-0.63484546247365314,-0.5222387347813302,0.51966654551914127,0.63567270805731646]
[15,0.72772045352713921,0.7701382036245803,1.5680522870517173,1.7036376612933073,-0.61253664817959108,-0.5037843240570139,0.49837115627330164,0.61290636794647435]
[16,0.73454169914830569,0.77556882776622793,1.5371848629384028,1.6631124264368353,-0.59256349135328035,-0.48823212275869982,0.47787940197769752,0.58831283586821703]
[17,0.73958162633262359,0.77949779135493458,1.5165977850039734,1.6378237905440087,-0.56199213265800463,-0.46551523646028281,0.46274161666093588,0.56588054401764587]
[18,0.74456638390745877,0.78486210051451233,1.4926916035462157,1.6066092598441375,-0.54031309063011013,-0.45002865812017806,0.4488088769488886,0.54988530340064512]
[19,0.75001043492733332,0.78842994686328649,1.4714328044984775,1.5793817297966821,-0.52693943012331157,-0.4380305553039317,0.42983167752619922,0.52501915574723235]
[20,0.75424023541938812,0.79179279369217848,1.4482293017353149,1.5480737778945381,-0.50688345699622472,-0.41921277205726803,0.41790523545755165,0.50991198628383405]
[22,0.76282752709147528,0.80071879374178112,1.4227859530371831,1.5166997592074618,-0.48177736597075954,-0.4003252577235788,0.3991401536763387,0.48465094452802643]
[24,0.77101713071455302,0.80634972374960689,1.3890075392693009,1.4772341236599817,-0.45378166067731035,-0.37691065972595694,0.37626547338723126,0.45760977388262275]
[26,0.7766536353209309,0.81143998446417975,1.3705436818270738,1.452205640955204,-0.43398755377332582,-0.36115768704066664,0.36317884417817903,0.43997286954228909]
[28,0.78325718990367366,0.81660528292399626,1.349499122841364,1.4267319201562372,-0.41529528053430537,-0.34740500364798321,0.34725085671115474,0.42134788734702355]
[30,0.78652407281240877,0.82035441584576907,1.337120514028548,1.412012701178015,-0.39956886839184286,-0.33447684385215953,0.3340056555631129,0.40621359175660487]
[32,0.79303610410330994,0.82536464006316257,1.32139875867831,1.3931498662647108,-0.38558305073117299,-0.32326068636680516,0.32280081896446833,0.39139076581184495]
[34,0.79916735971777508,0.82988022174804832,1.3075303101729259,1.3726178272916996,-0.37207455060575156,-0.31177958301609682,0.31018213079921148,0.37539810113638572]
[36,0.80184727165353098,0.83288725276695375,1.2947628423151603,1.3568963357050552,-0.3578551851633851,-0.30061588527728006,0.30014391993806067,0.36338875249813851]
[38,0.80656504532786433,0.8367157239010371,1.2828338377865465,1.3441034664415228,-0.34899382257448242,-0.29240571696198092,0.29318968184011274,0.35421054303227184]
[40,0.80958914995752629,0.83968452865126264,1.2745038559012039,1.3305388916966019,-0.34143804491489049,-0.28619603969716539,0.28704201202676838,0.34449859939663907]
[42,0.81522081703520577,0.84392829593142182,1.2649388310969538,1.3222348108219031,-0.3298029027195335,-0.27628119661296113,0.27674614133035114,0.3320131599555467]
[44,0.81856113158843957,0.84614478777209867,1.2578586132423293,1.3125760648021187,-0.32285045795797401,-0.26940747406424143,0.27016500753981892,0.32620020435840624]
[46,0.82010283328670575,0.84878015798212447,1.2485555704855686,1.303453316553139,-0.31551813834214676,-0.26387695139112666,0.26600733863322762,0.32094607858719554]
[48,0.82361501547000859,0.85179811131305028,1.2421059999197228,1.2940604268270257,-0.30976297488595339,-0.25993457038736889,0.2578447426651348,0.31094337097857744]
[50,0.8266420633747481,0.85353136618022207,1.2376869372194463,1.2868108031516399,-0.3011019114169235,-0.25123169999319256,0.25193400554022954,0.30371909414917214]
[52,0.83074841316422532,0.85667077480458342,1.2304448698941766,1.278624882153812,-0.29515305507716438,-0.24629027201450795,0.24763989341536374,0.29908777216214055]
[54,0.83070952380243546,0.85763447538565463,1.2257033801439954,1.2729901116279272,-0.29226214283910346,-0.24374513086648308,0.24498961786756485,0.29408901849716174]
[56,0.83492121630755756,0.86127467196897756,1.2189602139941571,1.265126052112528,-0.28468411096734869,-0.23799851942403336,0.23744683452811477,0.28545496881209109]
[58,0.83721087212053047,0.86255048501919007,1.2147587011459895,1.2597259266995664,-0.27726299178506775,-0.23261754247302427,0.23521762921796474,0.28177741918974175]
[60,0.83734896272542048,0.86295152496327299,1.2117518129534106,1.2563301903973234,-0.27555537840275446,-0.2308707799614898,0.23040866707233679,0.27794330075630858]
[62,0.84114442032002512,0.8666239443633208,1.2055266167695948,1.2492124373311007,-0.26783524356388744,-0.22432916355497842,0.22528830025102276,0.27198649021532728]
[64,0.84299399623089966,0.86770992572526295,1.2009371920652361,1.2432656014848251,-0.26336915867872096,-0.22147426639450443,0.22296505917018108,0.26986176361896563]
[66,0.84572223548625891,0.8692085896845525,1.1978916017489045,1.2391879511861221,-0.26071518013171957,-0.21912110685316247,0.2189423141557407,0.264636408573307]
[68,0.84774242430670788,0.87133342797343349,1.1952843339780255,1.2353202793062135,-0.25421495019416707,-0.21367185056878343,0.21563488899836708,0.25866400689638036]
[70,0.84854358393391183,0.87224486334013029,1.191770972430678,1.2310126400152366,-0.25310819677927715,-0.21420260548532746,0.21156235485348351,0.2552814246135382]
[72,0.85136639413534154,0.87435178502740007,1.1869313782951521,1.2244736826910978,-0.24775777545172997,-0.20874319913282222,0.20749268979377394,0.24923776916203438]
[74,0.85258450713099365,0.87505882100192256,1.1831308661931008,1.2219206265523608,-0.24340249628303981,-0.20548907883211198,0.20680719806081699,0.24800171741496155]
[76,0.85468134476011193,0.87752874000630621,1.181406117550871,1.2183708341347892,-0.24225934183708234,-0.20297755970109591,0.20334618940187654,0.24467790551573143]
[78,0.85514252681679248,0.87752476794138468,1.1780242089454707,1.213839290165768,-0.23698746864148348,-0.19909727972175059,0.20090979226474526,0.24261717718468506]
[80,0.85729112687965647,0.87976224101530798,1.1767702500542865,1.2137700508815423,-0.2359469631179468,-0.19860757883816257,0.19855683780114255,0.23804066975037336]
[85,0.86054772137972546,0.88272049726044632,1.1697300596334217,1.2050702594703107,-0.22552366656373288,-0.19003895720689162,0.19184009524214324,0.22987922007574718]
[90,0.86453444071599606,0.88567454531688095,1.1636888901947531,1.1968367945680609,-0.22176206748220234,-0.18617397454178905,0.18543840356460461,0.22256868905226407]
[95,0.8669444179659036,0.88800669460939863,1.1576974395532307,1.1899210245923377,-0.21511389768726352,-0.17998418593133575,0.18110971987315461,0.21727708704076382]
[100,0.87027622449459918,0.89046386717291015,1.153092377765794,1.1842867272524469,-0.2084334830712401,-0.1760280790684349,0.17636167751623424,0.21178001016824735]
[110,0.87569079043803288,0.89454321451759644,1.1453965833533706,1.1749214247153588,-0.20019506043766075,-0.16801999726169542,0.16836527444617111,0.20277271322602736]
[120,0.88015146278151946,0.89846724714082415,1.1374277855121524,1.1650805179469645,-0.18940440545563594,-0.15878372028033089,0.15931398017968443,0.1906991700240861]
[0]

{"sheet":"ワイブルプロット","index":2,"n_rows":48,"n_cols":11,"rows_kept":48,"cut":false,"hidden":true,"merged":[]}
["n=",{"$f":"最尤法!C4","v":20}]
["m=",{"$f":"最尤法!I14","v":19.972429974526829},null,null,1E-3,{"$f":"G2/$B$2+LN($B$3)","v":4.7243748241992174},{"$f":"LN(LN(1/(1-E2)))","v":-6.907255070523628},null,1E-3,{"$f":"LN(10)","v":2.3025850929940459},{"$f":"LN(LN(1/(1-I2)))","v":-6.907255070523628}]
["β＝",{"$f":"最尤法!I15","v":159.20844490800584},null,null,0.999,{"$f":"G3/$B$2+LN($B$3)","v":5.166979946145533},1.9326447339160653,null,1E-3,{"$f":"LN(10000)","v":9.2103403719761836},-6.907255070523628]
["σi",null,"i","σi","Fi","lnσ","lnln(1-F)^-1"]
[{"$f":"最尤法!B10","v":157},null,1,{"$f":"_xlfn._xlws.SORT(A5:A34,1,1,FALSE)","v":0},{"$f":"(C5-0.3)/($B$1+0.4)","v":3.4313725490196081E-2},{"$f":"LN(D5)","v":{"$error":"#NUM!"}},{"$f":"LN(LN(1/(1-E5)))","v":-3.3548025094517575},null,5.0000000000000001E-3,{"$f":"J2","v":2.3025850929940459},{"$f":"LN(LN(1/(1-I5)))","v":-5.295812142535044}]
[{"$f":"最尤法!B11","v":170},null,2,0,{"$f":"(C6-0.3)/($B$1+0.4)","v":8.3333333333333343E-2},{"$f":"LN(D6)","v":{"$error":"#NUM!"}},{"$f":"LN(LN(1/(1-E6)))","v":-2.4417163988814581},null,{"$f":"I5","v":5.0000000000000001E-3},{"$f":"J3","v":9.2103403719761836},-5.295812142535044]
[{"$f":"最尤法!B12","v":152},null,3,0,0.13235294117647062,{"$error":"#NUM!"},-1.9521376709872429]
[{"$f":"最尤法!B13","v":150},null,4,0,0.18137254901960786,{"$error":"#NUM!"},-1.6088072042350317,null,0.01,{"$f":"J5","v":2.3025850929940459},{"$f":"LN(LN(1/(1-I8)))","v":-4.6001492267765736}]
[{"$f":"最尤法!B14","v":166},null,5,0,0.23039215686274511,{"$error":"#NUM!"},-1.3398910871328429,null,{"$f":"I8","v":0.01},{"$f":"J6","v":9.2103403719761836},-4.6001492267765736]
[{"$f":"最尤法!B15","v":155},null,6,0,0.27941176470588236,{"$error":"#NUM!"},-1.1156951522565817]
[{"$f":"最尤法!B16","v":161},null,7,0,0.32843137254901966,{"$error":"#NUM!"},-0.92095391760378831,null,0.05,{"$f":"J8","v":2.3025850929940459},{"$f":"LN(LN(1/(1-I11)))","v":-2.9701952490421655}]
[{"$f":"最尤法!B17","v":137},null,8,0,0.37745098039215691,{"$error":"#NUM!"},-0.74668951290553132,null,{"$f":"I11","v":0.05},{"$f":"J9","v":9.2103403719761836},-2.9701952490421655]
[{"$f":"最尤法!B18","v":145},null,9,0,0.4264705882352941,{"$error":"#NUM!"},-0.58708400554140983]
[{"$f":"最尤法!B19","v":154},null,10,0,0.47549019607843135,{"$error":"#NUM!"},-0.43805365414610564,null,0.1,{"$f":"J11","v":2.3025850929940459},{"$f":"LN(LN(1/(1-I14)))","v":-2.2503673273124449}]
[{"$f":"最尤法!B20","v":160},null,11,137,0.52450980392156865,4.9199809258281251,-0.29650889401894664,null,{"$f":"I14","v":0.1},{"$f":"J12","v":9.2103403719761836},{"$f":"LN(LN(1/(1-I15)))","v":-2.2503673273124449}]
[{"$f":"最尤法!B21","v":165},null,12,145,0.57352941176470584,4.9767337424205742,-0.15992010326847925]
[{"$f":"最尤法!B22","v":150},null,13,146,0.62254901960784315,4.9836066217083363,-2.6021058293465373E-2,null,0.5,{"$f":"J14","v":2.3025850929940459},{"$f":"LN(LN(1/(1-I17)))","v":-0.36651292058166435}]
[{"$f":"最尤法!B23","v":166},null,14,148,0.67156862745098045,4.9972122737641147,0.10744298282505441,null,{"$f":"I17","v":0.5},{"$f":"J15","v":9.2103403719761836},{"$f":"LN(LN(1/(1-I18)))","v":-0.36651292058166435}]
[{"$f":"最尤法!B24","v":153},null,15,150,0.72058823529411764,5.0106352940962555,0.24300007991036771]
[{"$f":"最尤法!B25","v":160},null,16,150,0.76960784313725494,5.0106352940962555,0.38388212356735901,null,0.9,{"$f":"J17","v":2.3025850929940459},{"$f":"LN(LN(1/(1-I20)))","v":0.83403244524795594}]
[{"$f":"最尤法!B26","v":146},null,17,152,0.81862745098039214,5.0238805208462765,0.53485582063676906,null,{"$f":"I20","v":0.9},{"$f":"J18","v":9.2103403719761836},{"$f":"LN(LN(1/(1-I21)))","v":0.83403244524795594}]
[{"$f":"最尤法!B27","v":164},null,18,153,0.86764705882352944,5.0304379213924353,0.70422713445556917]
[{"$f":"最尤法!B28","v":153},null,19,153,0.91666666666666674,5.0304379213924353,0.91023509336532638,null,0.99,{"$f":"J20","v":2.3025850929940459},{"$f":"LN(LN(1/(1-I23)))","v":1.5271796258079011}]
[{"$f":"最尤法!B29","v":148},null,20,154,0.96568627450980393,5.0369526024136295,1.2155682697539896,null,{"$f":"I23","v":0.99},{"$f":"J21","v":9.2103403719761836},{"$f":"LN(LN(1/(1-I24)))","v":1.5271796258079011}]
[{"$f":"最尤法!B30","v":0},null,21,155,1.0147058823529411,5.0434251169192468,{"$error":"#NUM!"}]
[{"$f":"最尤法!B31","v":0},null,22,157,1.0637254901960784,5.0562458053483077,{"$error":"#NUM!"},null,0.999,{"$f":"J23","v":2.3025850929940459},{"$f":"LN(LN(1/(1-I26)))","v":1.9326447339160653}]
[{"$f":"最尤法!B32","v":0},null,23,160,1.1127450980392157,5.0751738152338266,{"$error":"#NUM!"},null,{"$f":"I26","v":0.999},{"$f":"J24","v":9.2103403719761836},{"$f":"LN(LN(1/(1-I27)))","v":1.9326447339160653}]
[{"$f":"最尤法!B33","v":0},null,24,160,1.161764705882353,5.0751738152338266,{"$error":"#NUM!"}]
[{"$f":"最尤法!B34","v":0},null,25,161,1.2107843137254903,5.0814043649844631,{"$error":"#NUM!"},null,10,{"$f":"LN(I29)","v":2.3025850929940459},-7]
[{"$f":"最尤法!B35","v":0},null,26,164,1.2598039215686274,5.0998664278241987,{"$error":"#NUM!"},null,null,{"$f":"J29","v":2.3025850929940459},2]
[{"$f":"最尤法!B36","v":0},null,27,165,1.3088235294117647,5.1059454739005803,{"$error":"#NUM!"}]
[{"$f":"最尤法!B37","v":0},null,28,166,1.357843137254902,5.1119877883565437,{"$error":"#NUM!"},null,50,{"$f":"LN(I32)","v":3.912023005428146},-7]
[{"$f":"最尤法!B38","v":0},null,29,166,1.4068627450980393,5.1119877883565437,{"$error":"#NUM!"},null,null,{"$f":"J32","v":3.912023005428146},2]
[{"$f":"最尤法!B39","v":0},null,30,170,1.4558823529411766,5.1357984370502621,{"$error":"#NUM!"}]
[null,null,null,null,null,null,null,null,100,{"$f":"LN(I35)","v":4.6051701859880918},-7]
[null,null,null,null,null,null,null,null,null,{"$f":"J35","v":4.6051701859880918},2]
[]
[null,null,null,null,null,null,null,null,500,{"$f":"LN(I38)","v":6.2146080984221914},-7]
[null,null,null,null,null,null,null,null,null,{"$f":"J38","v":6.2146080984221914},2]
[]
[null,null,null,null,null,null,null,null,1000,{"$f":"LN(I41)","v":6.9077552789821368},-7]
[null,null,null,null,null,null,null,null,null,{"$f":"J41","v":6.9077552789821368},2]
[]
[null,null,null,null,null,null,null,null,5000,{"$f":"LN(I44)","v":8.5171931914162382},-7]
[null,null,null,null,null,null,null,null,null,{"$f":"J44","v":8.5171931914162382},2]
[]
[null,null,null,null,null,null,null,null,10000,{"$f":"LN(I47)","v":9.2103403719761836},-7]
[null,null,null,null,null,null,null,null,null,{"$f":"J47","v":9.2103403719761836},2]